BEGIN:VCALENDAR
PRODID:-//Microsoft Corporation//Outlook MIMEDIR//EN
VERSION:2.0
METHOD:PUBLISH
BEGIN:VEVENT
DTSTART:20260407T164500
DTEND:20260407T174500
DESCRIPTION:Meeting ID: 897 1694 8642 Passcode: 075938
LOCATION:Betty J. Glick Assembly Chambers
SUMMARY:Policies and Procedures Committee
CATEGORIES:MEETING
END:VEVENT
END:VCALENDAR
