BEGIN:VCALENDAR
PRODID:-//Microsoft Corporation//Outlook MIMEDIR//EN
VERSION:2.0
METHOD:PUBLISH
BEGIN:VEVENT
DTSTART:20260421T153000
DTEND:20260421T163000
DESCRIPTION:Meeting ID: 897 1694 8642 Passcode: 075938
LOCATION:Seward Community Library and Museum 239 Sixth Avenue, Community Room, Seward
SUMMARY:Policies and Procedures Committee
CATEGORIES:MEETING
END:VEVENT
END:VCALENDAR
