BEGIN:VCALENDAR
PRODID:-//Microsoft Corporation//Outlook MIMEDIR//EN
VERSION:2.0
METHOD:PUBLISH
BEGIN:VEVENT
DTSTART:20260407T150000
DTEND:20260407T160000
DESCRIPTION:Meeting ID: 897 1694 8642 Passcode: 075938
LOCATION:Betty J. Glick Assembly Chambers
SUMMARY:Finance Committee
CATEGORIES:MEETING
END:VEVENT
END:VCALENDAR
